BEGIN:VCALENDAR
VERSION:2.0
PRODID:Events Booking
BEGIN:VEVENT
UID:69e746d7ba455
SUMMARY:Tiktok und Politik vereinen
DESCRIPTION:TikTok hat sich in kürzester Zeit von einer Entertainment-App 
 zu einem zentralen Ort für politische Inhalte und gesellschaftliche Debat
 ten entwickelt. Mit ihrer kreativen Kurzvideo-Ästhetik setzt die App neue
  Maßstäbe in der digitalen Kommunikation. Medien wie die Tagesschau oder
  die Washington Post zeigen bereits\, wie politische Inhalte dort erfolgre
 ich vermittelt werden können. Gleichzeitig stehen Themen wie Zensur\, Des
 information und Datenschutz in der Kritik. 
 In diesem Seminar erfahren S
 ie: 
 ● wie TikTok funktioniert und warum der Algorithmus einzigartig i
 st 
 ● welche Formate politische Botschaften besonders wirkungsvoll tra
 nsportieren 
 ● wie Sie junge Zielgruppen authentisch erreichen 
 ● 
 welche Chancen und Grenzen TikTok für die politische Kommunikation bietet
  
 Ein kompakter\, praxisnaher Einstieg für alle\, die TikTok profession
 ell einschätzen und nutzen möchten.
 Die Referentinnen: Kerstin Bücker
  ist Pressesprecherin eines Krankenhauses und freiberuflich als Trainerin 
 für Social Media und Öffentlichkeit unterwegs. Sie hat ihr Volonatariat 
 an der Journalistenschule ifp und der Katholischen Nachrichten-Agentur (KN
 A) absolviert. Linda Kotterba ist Reporterin und Redakteurin bei der RTL M
 ediengruppe und ebenfalls freiberuflich als Trainerin für Social Media un
 d Öffentlichkeitsarbeit unterwegs. Frau Kotterba hat Media and Entertainm
 ent Management an der Stenden Hogeschool in Leeuwarden\, NL studiert und d
 anach ihr Volontariat an der RTL Journalistenschule abgeschlossen. 
 Fü
 r wen ist das Seminar geeignet: (Ehrenamtliche) Mandats- und Funktionsträ
 ger\, Mitarbeiter von Mandats- und Funktionsträgern\, interessierte Bürg
 erinnen und Bürger
 Bitte beachten Sie 
 Die Teilnehmerinnen und Teilne
 hmer erhalten nach der Anmeldung eine E-Mail mit den Zugangsdaten zum Zoom
 -Meeting. Zur besseren Interaktion mit den Referenten und den anderen Teil
 nehmerinnen und Teilnehmern sind eine Webcam und ein Mikrofon sinnvoll\, a
 ber nicht zwingend erforderlich.
DTSTART:20260513T160000Z
DTEND:20260513T190000Z
DTSTAMP:20260317T083015Z
ORGANIZER;CN=KPV-NRW Seminare:MAILTO:s.bigalla@kpv-nrw.de
END:VEVENT
END:VCALENDAR