BEGIN:VCALENDAR
VERSION:2.0
PRODID:Events Booking
BEGIN:VEVENT
UID:69e73e4394510
SUMMARY:\"Impulse für eine strategische Fraktionsarbeit\"
DESCRIPTION:Das richtet sich an Mitglieder von Kreistags- und Stadtratsfrak
 tionen. Es bietet praxisnahe Impulse für eine wirkungsvolle\, strateg
 isch ausgerichtete Fraktionsarbeit\, die mit klarem Plan aktuelle Themen 
 und bestehende Probleme abarbeitet. Im Mittelpunkt stehen klare Zieldefini
 tionen\, effiziente Arbeitsstrukturen\, politische Positionierung inklusiv
 e Schwerpunktsetzung sowie eine konstruktive Zusammenarbeit innerhalb de
 r Fraktion und mit Verwaltung\, Partei und Bürgerschaft. Ziel des Seminar
 s ist es\, die politische Handlungsfähigkeit nachhaltig zu stärken und 
 strategische Entscheidungen gemeinsam zu treffen.
 Referent
 Dirk Soden
 kamp ist Pressesprecher der Wallfahrtsstadt Werl. Zuvor leitete er die Pre
 sse- und Öffentlichkeitsarbeit der Gemeindeprüfungsanstalt Nordrhein-Wes
 tfalen. Vor dem Schritt in die öffentliche Verwaltung arbeitete er sechs 
 Jahre als Fraktionsgeschäftsführer in Duisburg und zwischen 2008 und 201
 4 in einer Kommunikationsagentur mit dem Schwerpunkt Politische Kommunikat
 ion. Zudem verfügt er über langjährige kommunalpolitische Erfahrung.
 
 Für wen ist das Seminar geeignet: 
 (Ehrenamtliche) Mandats- und Funktio
 nsträger\, Mitarbeiter von Mandats- und Funktionsträgern\, interessierte
  Bürgerinnen und Bürger
 Anmeldung unter: c.moschyk@kpv-nrw.de  oder t
 elefonisch 02361 5899-12
LOCATION:Limperstraße\, Recklinghausen\, 45657 Nordrhein-Westfalen\, Deuts
 chland
DTSTART:20260612T130000Z
DTEND:20260612T180000Z
DTSTAMP:20260317T091312Z
ORGANIZER;CN=KPV-NRW Seminare:MAILTO:s.bigalla@kpv-nrw.de
GEO:51.614825;7.191388
X-APPLE-STRUCTURED-LOCATION;VALUE=URI;X-ADDRESS=Limperstraße\, Recklinghau
 sen\, 45657 Nordrhein-Westfalen\, Deutschland;X-APPLE-RADIUS=72;X-TITLE=KP
 V-NRW:51.614825;7.191388
END:VEVENT
END:VCALENDAR